BEGIN:VCALENDAR
VERSION:2.0
PRODID:-//Edlio Inc//Edlio Calendar//EN
CALSCALE:GREGORIAN
METHOD:PUBLISH
X-WR-CALNAME:Honors English 1-Period 6 - Diamond Bar High School
X-ORIGINAL-URL:https://dbhs.wvusd.org
X-WR-CALDESC:Events calendar for dbhs.wvusd.org
X-WR-TIMEZONE:US/Pacific
REFRESH-INTERVAL;VALUE=DURATION:PT1H
X-Robots-Tag:noindex
X-PUBLISHED-TTL:PT1H
BEGIN:VTIMEZONE
TZID:US/Pacific
BEGIN:STANDARD
TZOFFSETFROM:-0700
TZOFFSETTO:-0800
DTSTART:20071104T020000
RRULE:FREQ=YEARLY;BYMONTH=11;BYDAY=1SU
END:STANDARD
BEGIN:DAYLIGHT
TZOFFSETFROM:-0800
TZOFFSETTO:-0700
DTSTART:20070311T020000
RRULE:FREQ=YEARLY;BYMONTH=3;BYDAY=2SU
END:DAYLIGHT
END:VTIMEZONE
BEGIN:VTIMEZONE
TZID:US/East-Indiana
BEGIN:STANDARD
TZOFFSETFROM:-0500
TZOFFSETTO:-0500
DTSTART:19701025T020000
END:STANDARD
END:VTIMEZONE
BEGIN:VTIMEZONE
TZID:US/Eastern
BEGIN:STANDARD
TZOFFSETFROM:-0400
TZOFFSETTO:-0500
DTSTART:19701025T020000
RRULE:FREQ=YEARLY;BYMONTH=10;BYDAY=-1SU;UNTIL=20070311T020000
END:STANDARD
BEGIN:STANDARD
TZOFFSETFROM:-0400
TZOFFSETTO:-0500
DTSTART:20071104T020000
RRULE:FREQ=YEARLY;BYMONTH=11;BYDAY=1SU
END:STANDARD
BEGIN:DAYLIGHT
TZOFFSETFROM:-0500
TZOFFSETTO:-0400
DTSTART:19870405T020000
RRULE:FREQ=YEARLY;BYMONTH=4;BYDAY=1SU;UNTIL=20061029T020000
END:DAYLIGHT
BEGIN:DAYLIGHT
TZOFFSETFROM:-0500
TZOFFSETTO:-0400
DTSTART:20070311T020000
RRULE:FREQ=YEARLY;BYMONTH=3;BYDAY=2SU
END:DAYLIGHT
END:VTIMEZONE
BEGIN:VTIMEZONE
TZID:US/Michigan
BEGIN:STANDARD
TZOFFSETFROM:-0400
TZOFFSETTO:-0500
DTSTART:19701025T020000
RRULE:FREQ=YEARLY;BYMONTH=10;BYDAY=-1SU;UNTIL=20070311T020000
END:STANDARD
BEGIN:STANDARD
TZOFFSETFROM:-0400
TZOFFSETTO:-0500
DTSTART:20071104T020000
RRULE:FREQ=YEARLY;BYMONTH=11;BYDAY=1SU
END:STANDARD
BEGIN:DAYLIGHT
TZOFFSETFROM:-0500
TZOFFSETTO:-0400
DTSTART:19870405T020000
RRULE:FREQ=YEARLY;BYMONTH=4;BYDAY=1SU;UNTIL=20061029T020000
END:DAYLIGHT
BEGIN:DAYLIGHT
TZOFFSETFROM:-0500
TZOFFSETTO:-0400
DTSTART:20070311T020000
RRULE:FREQ=YEARLY;BYMONTH=3;BYDAY=2SU
END:DAYLIGHT
END:VTIMEZONE
BEGIN:VTIMEZONE
TZID:US/Central
BEGIN:STANDARD
TZOFFSETFROM:-0500
TZOFFSETTO:-0600
DTSTART:19701025T020000
RRULE:FREQ=YEARLY;BYMONTH=10;BYDAY=-1SU;UNTIL=20070311T020000
END:STANDARD
BEGIN:STANDARD
TZOFFSETFROM:-0500
TZOFFSETTO:-0600
DTSTART:20071104T020000
RRULE:FREQ=YEARLY;BYMONTH=11;BYDAY=1SU
END:STANDARD
BEGIN:DAYLIGHT
TZOFFSETFROM:-0600
TZOFFSETTO:-0500
DTSTART:19870405T020000
RRULE:FREQ=YEARLY;BYMONTH=4;BYDAY=1SU;UNTIL=20061029T020000
END:DAYLIGHT
BEGIN:DAYLIGHT
TZOFFSETFROM:-0600
TZOFFSETTO:-0500
DTSTART:20070311T020000
RRULE:FREQ=YEARLY;BYMONTH=3;BYDAY=2SU
END:DAYLIGHT
END:VTIMEZONE
BEGIN:VTIMEZONE
TZID:US/Mountain
BEGIN:STANDARD
TZOFFSETFROM:-0600
TZOFFSETTO:-0700
DTSTART:19701025T020000
RRULE:FREQ=YEARLY;BYMONTH=10;BYDAY=-1SU;UNTIL=20070311T020000
END:STANDARD
BEGIN:STANDARD
TZOFFSETFROM:-0600
TZOFFSETTO:-0700
DTSTART:20071104T020000
RRULE:FREQ=YEARLY;BYMONTH=11;BYDAY=1SU
END:STANDARD
BEGIN:DAYLIGHT
TZOFFSETFROM:-0700
TZOFFSETTO:-0600
DTSTART:19870405T020000
RRULE:FREQ=YEARLY;BYMONTH=4;BYDAY=1SU;UNTIL=20061029T020000
END:DAYLIGHT
BEGIN:DAYLIGHT
TZOFFSETFROM:-0700
TZOFFSETTO:-0600
DTSTART:20070311T020000
RRULE:FREQ=YEARLY;BYMONTH=3;BYDAY=2SU
END:DAYLIGHT
END:VTIMEZONE
BEGIN:VTIMEZONE
TZID:US/Arizona
BEGIN:STANDARD
TZOFFSETFROM:-0700
TZOFFSETTO:-0700
DTSTART:19701025T020000
END:STANDARD
END:VTIMEZONE
BEGIN:VTIMEZONE
TZID:US/Pacific
BEGIN:STANDARD
TZOFFSETFROM:-0700
TZOFFSETTO:-0800
DTSTART:19701025T020000
RRULE:FREQ=YEARLY;BYMONTH=10;BYDAY=-1SU;UNTIL=20070311T020000
END:STANDARD
BEGIN:STANDARD
TZOFFSETFROM:-0700
TZOFFSETTO:-0800
DTSTART:20071104T020000
RRULE:FREQ=YEARLY;BYMONTH=11;BYDAY=1SU
END:STANDARD
BEGIN:DAYLIGHT
TZOFFSETFROM:-0800
TZOFFSETTO:-0700
DTSTART:19870405T020000
RRULE:FREQ=YEARLY;BYMONTH=4;BYDAY=1SU;UNTIL=20061029T020000
END:DAYLIGHT
BEGIN:DAYLIGHT
TZOFFSETFROM:-0800
TZOFFSETTO:-0700
DTSTART:20070311T020000
RRULE:FREQ=YEARLY;BYMONTH=3;BYDAY=2SU
END:DAYLIGHT
END:VTIMEZONE
BEGIN:VTIMEZONE
TZID:US/Alaska
BEGIN:STANDARD
TZOFFSETFROM:-0800
TZOFFSETTO:-0900
DTSTART:19701025T020000
RRULE:FREQ=YEARLY;BYMONTH=10;BYDAY=-1SU;UNTIL=20070311T020000
END:STANDARD
BEGIN:STANDARD
TZOFFSETFROM:-0800
TZOFFSETTO:-0900
DTSTART:20071104T020000
RRULE:FREQ=YEARLY;BYMONTH=11;BYDAY=1SU
END:STANDARD
BEGIN:DAYLIGHT
TZOFFSETFROM:-0900
TZOFFSETTO:-0800
DTSTART:19870405T020000
RRULE:FREQ=YEARLY;BYMONTH=4;BYDAY=1SU;UNTIL=20061029T020000
END:DAYLIGHT
BEGIN:DAYLIGHT
TZOFFSETFROM:-0900
TZOFFSETTO:-0800
DTSTART:20070311T020000
RRULE:FREQ=YEARLY;BYMONTH=3;BYDAY=2SU
END:DAYLIGHT
END:VTIMEZONE
BEGIN:VTIMEZONE
TZID:US/Hawaii
BEGIN:STANDARD
TZOFFSETFROM:-1000
TZOFFSETTO:-1000
DTSTART:19701025T020000
END:STANDARD
END:VTIMEZONE
BEGIN:VTIMEZONE
TZID:US/Aleutian
BEGIN:STANDARD
TZOFFSETFROM:-1000
TZOFFSETTO:-1000
DTSTART:19701025T020000
END:STANDARD
END:VTIMEZONE
BEGIN:VTIMEZONE
TZID:US/Samoa
BEGIN:STANDARD
TZOFFSETFROM:-1100
TZOFFSETTO:-1100
DTSTART:19701025T020000
END:STANDARD
END:VTIMEZONE
BEGIN:VEVENT
UID:11794124@dbhs.wvusd.org#20260429
SEQUENCE:0
CREATED:20260423T214234Z
LAST-MODIFIED:20260423T214234Z
DTSTART;TZID=US/Pacific:20260429T152900
DTEND;TZID=US/Pacific:20260429T153000
SUMMARY:Assignment: Persuasive Essay Assignment
DESCRIPTION:1.  Attach your written persuasive essay in MLA format.  Make s
 ure it is 2-3 pages in length\, double spaced\, 12 point font.  Add an int
 eresting title.  <br>2. Include at least three or more examples to prove y
 our argument from credible sources.  <br>3. Use third person in your writi
 ng.<br>4. Inclu\n<a href=' https://dbhs.wvusd.org/apps/classes/1062027/ass
 ignments/#hw-11794124'>Read more</a>
URL:https://dbhs.wvusd.org/apps/classes/1062027/assignments/#hw-11794124
ORGANIZER;CN="Edlio Calendar":MAILTO:noreply@dbhs.wvusd.org
DTSTAMP:20260424T092100Z
END:VEVENT
BEGIN:VEVENT
UID:11784528@dbhs.wvusd.org#20260424
SEQUENCE:0
CREATED:20260422T213249Z
LAST-MODIFIED:20260422T213249Z
DTSTART;TZID=US/Pacific:20260424T152900
DTEND;TZID=US/Pacific:20260424T153000
SUMMARY:Assignment: Persuasive Speech Topics
DESCRIPTION:Please choose a topic to write a persuasive speech.  Only two s
 tudents can choose a topic with one student agreeing\, and the second stud
 ent writing a counter argument. <br><br>Example: Should animal testing be 
 illegal? (Cadence Yes\, Brista No)\n<a href=' https://dbhs.wvusd.org/apps/
 classes/1062027/assignments/#hw-11784528'>Read more</a>
URL:https://dbhs.wvusd.org/apps/classes/1062027/assignments/#hw-11784528
ORGANIZER;CN="Edlio Calendar":MAILTO:noreply@dbhs.wvusd.org
DTSTAMP:20260424T092100Z
END:VEVENT
BEGIN:VEVENT
UID:11784529@dbhs.wvusd.org#20260424
SEQUENCE:0
CREATED:20260422T213249Z
LAST-MODIFIED:20260422T213249Z
DTSTART;TZID=US/Pacific:20260424T152900
DTEND;TZID=US/Pacific:20260424T153000
SUMMARY:Assignment: Persuasive Speech Topics
DESCRIPTION:Please choose a topic to write a persuasive speech.  Only two s
 tudents can choose a topic with one student agreeing\, and the second stud
 ent writing a counter argument. <br><br>Example: Should animal testing be 
 illegal? (Cadence Yes\, Brista No)\n<a href=' https://dbhs.wvusd.org/apps/
 classes/1062027/assignments/#hw-11784529'>Read more</a>
URL:https://dbhs.wvusd.org/apps/classes/1062027/assignments/#hw-11784529
ORGANIZER;CN="Edlio Calendar":MAILTO:noreply@dbhs.wvusd.org
DTSTAMP:20260424T092100Z
END:VEVENT
BEGIN:VEVENT
UID:11784530@dbhs.wvusd.org#20260424
SEQUENCE:0
CREATED:20260422T213250Z
LAST-MODIFIED:20260422T213250Z
DTSTART;TZID=US/Pacific:20260424T152900
DTEND;TZID=US/Pacific:20260424T153000
SUMMARY:Assignment: Persuasive Speech Topics
DESCRIPTION:Please choose a topic to write a persuasive speech.  Only two s
 tudents can choose a topic with one student agreeing\, and the second stud
 ent writing a counter argument. <br><br>Example: Should animal testing be 
 illegal? (Cadence Yes\, Brista No)\n<a href=' https://dbhs.wvusd.org/apps/
 classes/1062027/assignments/#hw-11784530'>Read more</a>
URL:https://dbhs.wvusd.org/apps/classes/1062027/assignments/#hw-11784530
ORGANIZER;CN="Edlio Calendar":MAILTO:noreply@dbhs.wvusd.org
DTSTAMP:20260424T092100Z
END:VEVENT
END:VCALENDAR
